{"text_format":"1","workbook":"xlsx","n_sheets":4,"sheets":["Data","Report","Plan","Reference"],"not_rendered":{"charts":5,"images":0,"macros":1,"external_links":0,"defined_names":2,"comments":0,"pivot_tables":0},"unopened":[],"bounds":{"document_bytes":16777216,"sheet_cells":100000,"rows_first":2000,"rows_last":500,"rows_between":2000,"halvings":0,"cell_chars":16384,"cell_head_chars":4096},"cells_cut":0,"cells_raw":0,"read":"whole","date_system":"1900"}

{"sheet":"Data","index":0,"n_rows":49,"n_cols":25,"rows_kept":49,"cut":false,"hidden":false,"merged":[[11,13,11,15],[11,20,11,24],[11,1,11,2],[0,0,0,6],[11,12,12,12],[11,3,11,5],[11,6,12,6],[11,8,12,8],[11,9,12,9],[11,10,12,10],[11,11,12,11],[3,14,9,24],[0,24,0,25],[11,7,12,7],[0,13,0,14]]}
["Blood Glucose Control Chart",null,null,null,null,null,null,null,null,null,null,null,null,{"$f":"TODAY()","v":"2014-01-28"},null,null,null,null,null,null,null,null,null,null,"Health Tracker Version 5b (2014-02-01)"]
[]
[" "," ",null,null,null,null," ",null,null,null,null,null,null,null,"Notes:"]
["Report for:","JohnW",null,null,null,null," ",null," ",null,null,null,null,null,"This data table and contents can be easily modified to suit.  The number of samples per day can also be reduced. If Sampe 2 and 3 are removed, then change the macros for Mean and Standard Deviation. Take Sample1 before breakfast (ie. overnight fasting). Enter month Start Date in cell B8.\nVary the tolerance levels (UCL and LCL) by changing the desired Control Limit value at B10.  (1s - 100%, 2s - 200%, 3s - 300%).\n\n(Suggestion - Change initial values in columns D, N, O, P and U to averages from previous month)"]
["Start date:","2014-02-01",null,null," ",null,null,null,null,null,null,null,null," "]
["End date:",{"$f":"B44","v":"2014-03-03"}]
[]
["Blood Glucose Unit:","mg/dL"]
["Control Limits:",1]
["Desired Weight:",80," "]
[" "]
[" ","Sample Date",null,"Blood Glucose Level",null,null,"Mean (Daily Average)","Sample Mean (Average of All Sample1)","Sample Mean (Average of All Means)","Standard Deviation (since day 1)","Standard Deviation (for month)","Lower Control Limit","Upper Control Limit","Blood Pressure",null,null,null,null,null,null,"Other Health Factors"]
[" ","Date","Time","Sample 1 (Morning)","Sample 2","Sample 3",null,null,null,null,null,null,null,"Systolic","Diastolic","Pulse","(UCL Syst)","(Av Syst)","(UCL Diast)","(Av Diast)","Weight","Av. Weight","Desired Target Weight","Diet","Medication / Exercise"]
[null,{"$f":"$B$5","v":"2014-02-01"},"07:00:00",130,{"$f":"AVERAGE(D14)","v":130},{"$f":"AVERAGE(D14:E14)","v":130},{"$f":"AVERAGE(D14:F14)","v":130},{"$f":"AVERAGE($D$14:$D$44)","v":120.3225806451613},{"$f":"AVERAGE($G$14:$G$44)","v":120.3225806451613},{"$f":"STDEV($D$14:F14)","v":0},{"$f":"AVERAGE($J$14:$J$44)","v":2.6688387092891741},{"$f":"I14-($B$9*K14)","v":117.65374193587212},{"$f":"I14+($B$9*K14)","v":122.99141935445047},135,85,90,139,{"$f":"AVERAGE($N$14:$N$44)","v":130.16129032258064},89,{"$f":"AVERAGE($O$14:$O$44)","v":80.161290322580641},85,{"$f":"AVERAGE($U$14:$U$44)","v":82.096774193548384},{"$f":"$B$10","v":80},"Good","Normal medication, 3.5 Km walk, good sleep, no gym"]
[" ",{"$f":"B14+1","v":"2014-02-02"},"06:00:00",120,{"$f":"AVERAGE(D15)","v":120},{"$f":"AVERAGE(D15:E15)","v":120},120,{"$f":"AVERAGE($D$14:$D$44)","v":120.3225806451613},120.3225806451613,{"$f":"STDEV($D$14:F15)","v":5.4772255750516612},2.6688387092891741,117.65374193587212,122.99141935445047,130,80,85,139,{"$f":"AVERAGE($N$14:$N$44)","v":130.16129032258064},89,{"$f":"AVERAGE($O$14:$O$44)","v":80.161290322580641},82,{"$f":"AVERAGE($U$14:$U$44)","v":82.096774193548384},{"$f":"$B$10","v":80},"Fair"," "]
[" ",{"$f":"B15+1","v":"2014-02-03"},"06:00:00",120,120,120,120,120.3225806451613,120.3225806451613,{"$f":"STDEV($D$14:F16)","v":5},2.6688387092891741,117.65374193587212,122.99141935445047,130,80,85,139,130.16129032258064,89,80.161290322580641,82,82.096774193548384,{"$f":"$B$10","v":80},"Fair"," "]
[null,"2014-02-04","06:00:00",120,120,120,120,120.3225806451613,120.3225806451613,{"$f":"STDEV($D$14:F17)","v":4.5226701686664539},2.6688387092891741,117.65374193587212,122.99141935445047,130,80,85,139,130.16129032258064,89,80.161290322580641,82,82.096774193548384,80,"Fair"," "]
[null,"2014-02-05","06:00:00",120,120,120,120,120.3225806451613,120.3225806451613,{"$f":"STDEV($D$14:F18)","v":4.1403933560541253},2.6688387092891741,117.65374193587212,122.99141935445047,130,80,85,139,130.16129032258064,89,80.161290322580641,82,82.096774193548384,80,"Fair"," "]
[null,"2014-02-06","06:00:00",120,{"$f":"AVERAGE(D19)","v":120},{"$f":"AVERAGE(D19:E19)","v":120},120,120.3225806451613,120.3225806451613,{"$f":"STDEV($D$14:F19)","v":3.8348249442368521},2.6688387092891741,117.65374193587212,122.99141935445047,130,80,85,139,130.16129032258064,89,80.161290322580641,82,82.096774193548384,80,"Fair"," "]
[" ","2014-02-07","06:00:00",120,{"$f":"AVERAGE(D20)","v":120},{"$f":"AVERAGE(D20:E20)","v":120},120,120.3225806451613,120.3225806451613,{"$f":"STDEV($D$14:F20)","v":3.585685828003065},2.6688387092891741,117.65374193587212,122.99141935445047,130,80,85,139,130.16129032258064,89,80.161290322580641,82,82.096774193548384,80,"Fair"," "]
[null,"2014-02-08","06:00:00",120,120,120,120,120.3225806451613,120.3225806451613,{"$f":"STDEV($D$14:F21)","v":3.378319623460881},2.6688387092891741,117.65374193587212,122.99141935445047,130,80,85,139,130.16129032258064,89,80.161290322580641,82,82.096774193548384,80,"Fair"," "]
[null,"2014-02-09","06:00:00",120,120,120,120,120.3225806451613,120.3225806451613,{"$f":"STDEV($D$14:F22)","v":3.2025630761018591},2.6688387092891741,117.65374193587212,122.99141935445047,130,80,85,139,130.16129032258064,89,80.161290322580641,82,82.096774193548384,80,"Fair"," "]
[null,"2014-02-10","06:00:00",120,120,120,120,120.3225806451613,120.3225806451613,{"$f":"STDEV($D$14:F23)","v":3.0512857662936468},2.6688387092891741,117.65374193587212,122.99141935445047,130,80,85,139,130.16129032258064,89,80.161290322580641,82,82.096774193548384,80,"Fair"," "]
[null,"2014-02-11","06:00:00",120,120,120,120,120.3225806451613,120.3225806451613,{"$f":"STDEV($D$14:F24)","v":2.9193710406058244},2.6688387092891741,117.65374193587212,122.99141935445047,130,80,85,139,130.16129032258064,89,80.161290322580641,82,82.096774193548384,80,"Fair"," "]
[null,"2014-02-12","06:00:00",120,120,120,120,120.3225806451613,120.3225806451613,{"$f":"STDEV($D$14:F25)","v":2.8030595529069404},2.6688387092891741,117.65374193587212,122.99141935445047,130,80,85,139,130.16129032258064,89,80.161290322580641,82,82.096774193548384,80,"Fair"," "]
[null,"2014-02-13","06:00:00",120,120,120,120,120.3225806451613,120.3225806451613,{"$f":"STDEV($D$14:F26)","v":2.6995276239953037},2.6688387092891741,117.65374193587212,122.99141935445047,130,80,85,139,130.16129032258064,89,80.161290322580641,82,82.096774193548384,80,"Fair"," "]
[null,"2014-02-14","06:00:00",120,120,120,120,120.3225806451613,120.3225806451613,{"$f":"STDEV($D$14:F27)","v":2.6066118021502991},2.6688387092891741,117.65374193587212,122.99141935445047,130,80,85,139,130.16129032258064,89,80.161290322580641,82,82.096774193548384,80,"Fair"," "]
[null,"2014-02-15","06:00:00",120,120,120,120,120.3225806451613,120.3225806451613,{"$f":"STDEV($D$14:F28)","v":2.522624895547565},2.6688387092891741,117.65374193587212,122.99141935445047,130,80,85,139,130.16129032258064,89,80.161290322580641,82,82.096774193548384,80,"Fair"," "]
[null,"2014-02-16","06:00:00",120,120,120,120,120.3225806451613,120.3225806451613,{"$f":"STDEV($D$14:F29)","v":2.4462302739504085},2.6688387092891741,117.65374193587212,122.99141935445047,130,80,85,139,130.16129032258064,89,80.161290322580641,82,82.096774193548384,80,"Fair"," "]
[null,"2014-02-17","06:00:00",120,120,120,120,120.3225806451613,120.3225806451613,{"$f":"STDEV($D$14:F30)","v":2.3763541031441626},2.6688387092891741,117.65374193587212,122.99141935445047,130,80,85,139,130.16129032258064,89,80.161290322580641,82,82.096774193548384,80,"Fair"," "]
[null,"2014-02-18","06:00:00",120,120,120,120,120.3225806451613,120.3225806451613,{"$f":"STDEV($D$14:F31)","v":2.3121228232267996},2.6688387092891741,117.65374193587212,122.99141935445047,130,80,85,139,130.16129032258064,89,80.161290322580641,82,82.096774193548384,80,"Fair"," "]
[null,"2014-02-19","06:00:00",120,120,120,120,120.3225806451613,120.3225806451613,{"$f":"STDEV($D$14:F32)","v":2.2528177844481334},2.6688387092891741,117.65374193587212,122.99141935445047,130,80,85,139,130.16129032258064,89,80.161290322580641,82,82.096774193548384,80,"Fair"," "]
[null,"2014-02-20","06:00:00",120,120,120,120,120.3225806451613,120.3225806451613,{"$f":"STDEV($D$14:F33)","v":2.1978417765108276},2.6688387092891741,117.65374193587212,122.99141935445047,130,80,85,139,130.16129032258064,89,80.161290322580641,82,82.096774193548384,80,"Fair"," "]
[null,"2014-02-21","06:00:00",120,120,120,120,120.3225806451613,120.3225806451613,{"$f":"STDEV($D$14:F34)","v":2.1466939537055838},2.6688387092891741,117.65374193587212,122.99141935445047,130,80,85,139,130.16129032258064,89,80.161290322580641,82,82.096774193548384,80,"Fair"," "]
[null,"2014-02-22","06:00:00",120,120,120,120,120.3225806451613,120.3225806451613,{"$f":"STDEV($D$14:F35)","v":2.0989507868443624},2.6688387092891741,117.65374193587212,122.99141935445047,130,80,85,139,130.16129032258064,89,80.161290322580641,82,82.096774193548384,80,"Fair"," "]
[null,"2014-02-23","06:00:00",120,120,120,120,120.3225806451613,120.3225806451613,{"$f":"STDEV($D$14:F36)","v":2.054251408446623},2.6688387092891741,117.65374193587212,122.99141935445047,130,80,85,139,130.16129032258064,89,80.161290322580641,82,82.096774193548384,80,"Fair"," "]
[null,"2014-02-24","06:00:00",120,120,120,120,120.3225806451613,120.3225806451613,{"$f":"STDEV($D$14:F37)","v":2.0122862059478237},2.6688387092891741,117.65374193587212,122.99141935445047,130,80,85,139,130.16129032258064,89,80.161290322580641,82,82.096774193548384,80,"Fair"," "]
[null,"2014-02-25","06:00:00",120,120,120,120,120.3225806451613,120.3225806451613,{"$f":"STDEV($D$14:F38)","v":1.9727878476642875},2.6688387092891741,117.65374193587212,122.99141935445047,130,80,85,139,130.16129032258064,89,80.161290322580641,82,82.096774193548384,80,"Fair"," "]
[null,"2014-02-26","06:00:00",120,120,120,120,120.3225806451613,120.3225806451613,{"$f":"STDEV($D$14:F39)","v":1.9355241528467892},2.6688387092891741,117.65374193587212,122.99141935445047,130,80,85,139,130.16129032258064,89,80.161290322580641,82,82.096774193548384,80,"Fair"," "]
[null,"2014-02-27","06:00:00",120,120,120,120,120.3225806451613,120.3225806451613,{"$f":"STDEV($D$14:F40)","v":1.9002923751655703},2.6688387092891741,117.65374193587212,122.99141935445047,130,80,85,139,130.16129032258064,89,80.161290322580641,82,82.096774193548384,80,"Fair"," "]
[null,"2014-02-28","06:00:00",120,120,120,120,120.3225806451613,120.3225806451613,{"$f":"STDEV($D$14:F41)","v":1.8669145807011931},2.6688387092891741,117.65374193587212,122.99141935445047,130,80,85,139,130.16129032258064,89,80.161290322580641,82,82.096774193548384,80,"Fair"," "]
[null,"2014-03-01","06:00:00",120,120,120,120,120.3225806451613,120.3225806451613,{"$f":"STDEV($D$14:F42)","v":1.8352338815963152},2.6688387092891741,117.65374193587212,122.99141935445047,130,80,85,139,130.16129032258064,89,80.161290322580641,82,82.096774193548384,80,"Fair"," "]
[null,{"$f":"B42+1","v":"2014-03-02"},"06:00:00",120,120,120,120,120.3225806451613,120.3225806451613,{"$f":"STDEV($D$14:F43)","v":1.8051113445691196},2.6688387092891741,117.65374193587212,122.99141935445047,130,80,85,139,130.16129032258064,89,80.161290322580641,82,82.096774193548384,80,"Fair"]
[null,"2014-03-03","06:00:00",120,120,120,120,120.3225806451613,120.3225806451613,{"$f":"STDEV($D$14:F44)","v":1.7764234361219153},2.6688387092891741,117.65374193587212,122.99141935445047,130,80,85,139,130.16129032258064,89,80.161290322580641,82,82.096774193548384,80,"Fair"," "]
[" ",null,null,null,null,{"$f":"AVERAGE($G$14:$G$44)","v":120.3225806451613},null,null,null,null,null," ",null,{"$f":"AVERAGE(N14:N44)","v":130.16129032258064},{"$f":"AVERAGE(O14:O44)","v":80.161290322580641},85.161290322580641,null,null,null,null,{"$f":"AVERAGE(U14:U44)","v":82.096774193548384}," "]
[]
[" ",null,null,null,null,null,null,null,null,null,null,null,null,null,null,null,null,null,null,null,null,null,null,null," "]
[null,null,null,null,null,null,null,null,null,null,null,null,null,null,null,null,null,null,null,null," "]
[" "]

{"sheet":"Report","index":1,"n_rows":24,"n_cols":12,"rows_kept":24,"cut":false,"hidden":false,"merged":[[0,11,0,12]]}
["Health Trend Reports",null,null,null,null,null,null,null,null,null,null,{"$f":"TODAY()","v":"2014-01-28"}]
[]
[]
[]
[]
["Blood"]
["Pressure"]
[]
[]
[]
[]
[]
[]
[]
[]
[]
[]
[]
[]
[]
[]
[]
[]
["Weight"]

{"sheet":"Plan","index":2,"n_rows":65,"n_cols":8,"rows_kept":65,"cut":false,"hidden":false,"merged":[[20,0,20,2],[0,0,0,2],[20,3,20,4],[33,1,33,2],[34,1,34,2],[35,1,35,2],[36,1,36,2],[37,1,37,2],[38,1,38,2],[39,1,39,2],[40,1,40,2],[41,1,41,2],[42,1,42,2],[43,1,43,2],[44,1,44,2],[45,1,45,2],[46,1,46,2],[47,1,47,2],[33,3,33,4],[34,3,34,4],[35,3,35,4],[36,3,36,4],[37,3,37,4],[38,3,38,4],[39,3,39,4],[40,3,40,4],[41,3,41,4],[42,3,42,4],[43,3,43,4],[44,3,44,4],[45,3,45,4],[46,3,46,4],[47,3,47,4],[48,3,48,4],[49,3,49,4],[50,3,50,4],[51,3,51,4],[52,3,52,4],[62,3,62,4],[53,3,53,4],[54,3,54,4],[55,3,55,4],[56,3,56,4],[57,3,57,4],[58,1,58,2],[59,1,59,2],[60,1,60,2],[61,1,61,2],[58,3,58,4],[59,3,59,4],[60,3,60,4],[61,3,61,4],[62,1,62,2],[63,1,63,2],[64,1,64,2],[33,0,39,0],[63,3,63,4],[64,3,64,4],[48,1,48,2],[49,1,49,2],[50,1,50,2],[51,1,51,2],[52,1,52,2],[53,1,53,2],[54,1,54,2],[55,1,55,2],[56,1,56,2],[57,1,57,2]]}
["Analysis and Improvement Plan",null,null,{"$f":"TODAY()","v":"2014-01-28"},{"$f":"Data!Y1","v":"Health Tracker Version 5b (2014-02-01)"}]
[]
["Health Risk Factor","Severity","Impact","Self-Assessment\n(or Medical Assessments)","Improvement or  Mitigation Plan","Percent of Total","Cumulative %","Line Value"]
["Diet: Sugar product intake",7,18,"Needs greater self control","1.  Have been using sugar sometimes in tea - will completely remove\n2.  Will reduce any cake, biscuit or dessert to 1 per fortnight",{"$f":"(C4*100/$C$19)","v":14.516129032258064},{"$f":"F4","v":14.516129032258064},{"$f":"$B$23","v":80}]
["Diet: Over-eating",6,17,"General diet is good, but still too much snacking","1. Contiuous (daily) focus on both diet and food intake\n2. Reduce causes for \"snacking\" - stress and anziety for a start",13.709677419354838,{"$f":"(G4+F5)","v":28.225806451612904},{"$f":"$B$23","v":80}]
["Abdominal Fat (Waistline)",5,16,"This defect has developed over many years, and has no overnight solution","1. Should start to see improvement if I maintain all other actions\n2. Gym and crunches will help but is not main solution",12.903225806451612,{"$f":"(G5+F6)","v":41.129032258064512},80]
["Over-weight",5,15,"About 5kg above optimum; BMI = 26","1. Concentrate more on daily diet and food intake\n2. Restart gym visits (when it re-opens)",12.096774193548388,53.225806451612897,80]
["Diet: High fat intake",5,9,"Too much meat and butter in diet","1. Reduce or limit meat in diet\n2. Use low-fat spreads to replace butter",7.258064516129032,60.483870967741929,80]
["Diet: Poor nutrition",5,8,"Need to improve ratio of salads, fresh vegies and fruit to meats and carbs ","1. Better diet management\n2.  ork harde on maintaing a daily regimen",6.4516129032258061,66.93548387096773,80]
["High Blood Pressure",5,7,"12/01/14 This seems to be getting well under control, due to better sleep, intense walking  etc","1.  Increase the consistency and distance of daily walks.\n2.  Improve sleeping times and length.  3. Keep working on reducing stress levels",5.645161290322581,72.580645161290306,80]
["Excessive Stress / Anxiety",6,6,"A number of factors","1. Daily walks, and weekly gym work-outs\n2. Move to Better and consistent sleep patterns",4.838709677419355,77.419354838709666,80]
["Lack of general fitness",6,6,"Due to work anxieties and lack of consistent, restful sleeo","1. Aim to get more consistent sleep\n2. Gym work helps, but longer walks (at reasonable pace) are better",4.838709677419355,82.258064516129025,80]
["Poor Cholesterol Levels",5,5,"3 montly pathology results - improving",null,4.032258064516129,86.290322580645153,80]
["Lack of Sleep / Poor Sleep",4,5,"Need to have improved sleep time patterns","1. Reduce late nights.  2.  Minimise low sugar levels overnght (vary Glimel)",4.032258064516129,90.322580645161281,80]
["Medication Balance",4,4,null," ",3.225806451612903,93.548387096774178,80]
["No Gym or Sport activity",7,3,null,null,2.4193548387096775,95.967741935483858,80]
["Lack of Physical Activity",3,3,null,null,2.4193548387096775,98.387096774193537,80]
["Sedentary Work Practice",3,2,null,null,1.6129032258064515,99.999999999999986,80]
["Totals",{"$f":"SUM(B4:B18)","v":76},{"$f":"SUM(C4:C18)","v":124},null," ",{"$f":"SUM(F4:F18)","v":99.999999999999986},{"$f":"G18","v":99.999999999999986}]
[null,null,null,null," "]
["( <--  Sort on C then B for these cells A3 through to E18  -->  )",null,null,"Severity / Impact Level Guidance"]
[null,null,null,"0.   No issues or Impact; Monitor only","10.  A number of issues; minimal control; noticeable impact"]
["Set Line Value:",80,null,"1.   Negligible issues; No Impact; Monitor & control","12.  Frequent issues; minimal control; undesirable impact"]
[null,null,null,"2.   Negligible issues or Impact; Monitor and control","14.  Frequent issues; poor control; medium impact"]
[" ",null,null,"4.   Minimal issues; Minimal impact; Well controlled","16.  Frequent issues; poor control; high impact"]
[null,null,null,"6.   Occasional issues; Some Impact; Some control","18.  Many issues; very poor control; very high impact"]
[null,null,null,"8.   Number of issues; Noticeable impact; Basic control","20, Critical issue and impact / completely out of control"]
[" ",null,null," "," "]
[null," "]
[]
[]
[]
[]
[" Daily Notes and Analysis on Data Results","Date",null,"Daily Observations and Suggestions"]
[null,{"$f":"Data!$B$5","v":"2014-02-01"}]
[null,{"$f":"B35+1","v":"2014-02-02"}]
[null,"2014-02-03"]
[null,"2014-02-04"]
[null,"2014-02-05"]
[null,"2014-02-06"]
[null,"2014-02-07"]
[null,"2014-02-08"]
[" ","2014-02-09"]
[null,"2014-02-10"]
[null,"2014-02-11"]
[null,"2014-02-12"]
[null,"2014-02-13"]
[null,"2014-02-14"]
[null,"2014-02-15"]
[null,"2014-02-16"]
[null,"2014-02-17"]
[null,"2014-02-18"]
[null,"2014-02-19"]
[null,"2014-02-20"]
[null,"2014-02-21"]
[null,"2014-02-22"]
[null,"2014-02-23"]
[null,"2014-02-24"]
[null,"2014-02-25"]
[null,"2014-02-26"]
[null,"2014-02-27"]
[null,"2014-02-28"]
[null,"2014-03-01"]
[null,"2014-03-02"]
[null,"2014-03-03"]

{"sheet":"Reference","index":3,"n_rows":41,"n_cols":4,"rows_kept":41,"cut":false,"hidden":true,"merged":[]}
["Diet","Comments"]
["Excellent","Conforming all day (No sugar, cheese, bread, fat, excesses)"]
["Good","Minor deviation;  Conforming afternoon / evening"]
["Fair","Reasonable day diet; conforming in evening"]
["Poor","Some deviations; especially evening"]
["Bad","Totally lost the plot"]
[]
[{"$f":"TODAY()","v":"2014-01-28"},"Chart Titles"]
["Chart1",{"$f":"\"Blood Pressure Chart  \"&TEXT($A$8,\"yyyy-mm-dd\")&\"  (\"&Data!$B$4&\")\"","v":"Blood Pressure Chart  2014-01-28  (JohnW)"}]
["Chart2",{"$f":"\"Weight Control Chart  \"&TEXT($A$8,\"yyyy-mm-dd\")&\"  (\"&Data!$B$4&\")\"","v":"Weight Control Chart  2014-01-28  (JohnW)"}]
["Chart3",{"$f":"\"Daily Glucose Levels (mg/dL) - Average  \"&TEXT($A$8,\"yyyy-mm-dd\")&\"  (\"&Data!$B$4&\")\"","v":"Daily Glucose Levels (mg/dL) - Average  2014-01-28  (JohnW)"}]
["Chart4",{"$f":"\"Daily Glucose Levels (mg/dL) - Fasting  \"&TEXT($A$8,\"yyyy-mm-dd\")&\"  (\"&Data!$B$4&\")\"","v":"Daily Glucose Levels (mg/dL) - Fasting  2014-01-28  (JohnW)"}]
["Chart5",{"$f":"\"Pareto Analysis  \"&TEXT($A$8,\"yyyy-mm-dddd\")&\"  (\"&Data!$B$4&\")\"","v":"Pareto Analysis  2014-01-Tuesday  (JohnW)"}]
[null,null,null," "]
["Level","Severity / Impact"]
[0,"No issues or Impact, but need to monitor and control"]
[1]
[2,"Negligible issues; no Impact; completely under control"]
[3]
[4,"Minimal issues; well controlled; minimal impact"]
[5]
[6,"Occasional issues; some control; some impact"]
[7]
[8,"A number of issues; basic control; noticeable impact"]
[9]
[10,"A number of issues; minimal control; noticeable impact"]
[11]
[12,"Frequent issues; minimal control; undesirable impact"]
[13]
[14,"Frequent issues; poor control; medium impact"]
[15]
[16,"Frequent issues; poor control; high impact"]
[17]
[18,"Many issues; very poor control; very high impact"]
[19]
[20,"Critical issue and impact / completely out of control"]
[" "]
[" "]
[" "]
[" "]
[" "]